BEGIN:VCALENDAR
VERSION:2.0
PRODID:-//Verein Soester Wirtschaft e.V. - ECPv5.16.3.1//NONSGML v1.0//EN
CALSCALE:GREGORIAN
METHOD:PUBLISH
X-ORIGINAL-URL:https://verein-soester-wirtschaft.de
X-WR-CALDESC:Events for Verein Soester Wirtschaft e.V.
REFRESH-INTERVAL;VALUE=DURATION:PT1H
X-Robots-Tag:noindex
X-PUBLISHED-TTL:PT1H
BEGIN:VTIMEZONE
TZID:Europe/Berlin
BEGIN:DAYLIGHT
TZOFFSETFROM:+0100
TZOFFSETTO:+0200
TZNAME:CEST
DTSTART:20260329T010000
END:DAYLIGHT
BEGIN:STANDARD
TZOFFSETFROM:+0200
TZOFFSETTO:+0100
TZNAME:CET
DTSTART:20261025T010000
END:STANDARD
END:VTIMEZONE
BEGIN:VEVENT
DTSTART;TZID=Europe/Berlin:20260429T180000
DTEND;TZID=Europe/Berlin:20260429T220000
DTSTAMP:20260425T122951
CREATED:20260218T120753Z
LAST-MODIFIED:20260218T120753Z
UID:7190-1777485600-1777500000@verein-soester-wirtschaft.de
SUMMARY:Jahreshauptversammlung 2026
DESCRIPTION:Sehr geehrte Mitglieder\,liebe Unternehmerinnen und Unternehmer\, \nwir laden Sie herzlich zur Jahreshauptversammlung für das Geschäftsjahr 2025 ein. \nMittwoch\, 29. April 2026Beginn: 18:00 Uhr Ort: Zwiebels Sudhaus am Aloisius \, Soest \nDie Jahreshauptversammlung bietet Gelegenheit\, gemeinsam auf das vergangene Geschäftsjahr zurückzublicken\, aktuelle Entwicklungen zu besprechen und die Weichen für die zukünftige Ausrichtung unseres Vereins zu stellen. Neben Berichten und Informationen aus dem Vorstand steht selbstverständlich auch der persönliche Austausch im Mittelpunkt. \nDie offizielle Tagesordnung senden wir Ihnen zeitnah zu. \nIm Anschluss an die Versammlung findet unser monatlicher VSW-Stammtisch statt. Wie gewohnt treffen sich die Soester Unternehmerinnen und Unternehmer in lockerer Atmosphäre zum offenen Austausch. \nOhne Motto\, ohne Moderation und ohne Anmeldung:Ob auf ein Feierabendgetränk nach Ladenschluss oder zum gemeinsamen Abendessen; im Mittelpunkt steht die Pflege unseres starken Netzwerks. \nWir freuen uns auf Ihre Teilnahme und einen inspirierenden Abend.
URL:https://verein-soester-wirtschaft.de/event/jahreshauptversammlung-2026/
LOCATION:Sudhaus am Aloisius\, Ulricherstraße 23\, Soest\, NRW\, 59494\, Deutschland
END:VEVENT
END:VCALENDAR